BEGIN:VCALENDAR
VERSION:2.0
PRODID:-//ROTTINCUORE - ECPv6.15.16.1//NONSGML v1.0//EN
CALSCALE:GREGORIAN
METHOD:PUBLISH
X-WR-CALNAME:ROTTINCUORE
X-ORIGINAL-URL:http://rottincuore.com
X-WR-CALDESC:Eventi per ROTTINCUORE
REFRESH-INTERVAL;VALUE=DURATION:PT1H
X-Robots-Tag:noindex
X-PUBLISHED-TTL:PT1H
BEGIN:VTIMEZONE
TZID:Europe/Rome
BEGIN:DAYLIGHT
TZOFFSETFROM:+0100
TZOFFSETTO:+0200
TZNAME:CEST
DTSTART:20240331T010000
END:DAYLIGHT
BEGIN:STANDARD
TZOFFSETFROM:+0200
TZOFFSETTO:+0100
TZNAME:CET
DTSTART:20241027T010000
END:STANDARD
BEGIN:DAYLIGHT
TZOFFSETFROM:+0100
TZOFFSETTO:+0200
TZNAME:CEST
DTSTART:20250330T010000
END:DAYLIGHT
BEGIN:STANDARD
TZOFFSETFROM:+0200
TZOFFSETTO:+0100
TZNAME:CET
DTSTART:20251026T010000
END:STANDARD
BEGIN:DAYLIGHT
TZOFFSETFROM:+0100
TZOFFSETTO:+0200
TZNAME:CEST
DTSTART:20260329T010000
END:DAYLIGHT
BEGIN:STANDARD
TZOFFSETFROM:+0200
TZOFFSETTO:+0100
TZNAME:CET
DTSTART:20261025T010000
END:STANDARD
END:VTIMEZONE
BEGIN:VEVENT
DTSTART;TZID=Europe/Rome:20250525T210000
DTEND;TZID=Europe/Rome:20250525T223000
DTSTAMP:20260422T091902
CREATED:20250519T125140Z
LAST-MODIFIED:20250519T125238Z
UID:20307-1748206800-1748212200@rottincuore.com
SUMMARY:CINEMA AZZURRO - ANCONA (DISCOFILM)
DESCRIPTION:La proeizione in esclusiva di ROTTINCUORE DISCOFILM arriva ad Ancona! Domenica 25 maggio h. 21.00 al Cinema Azzurro in presenza di Romina. \nPrevendite disponibili al botteghino del cinema.
URL:http://rottincuore.com/event/ancona-cinema-azzurro-discofilm/
LOCATION:Cinema Azzurro\, Via Tagliamento 39\, Ancona\, Italy
CATEGORIES:general
ATTACH;FMTTYPE=image/jpeg:http://rottincuore.com/wp-content/uploads/2025/05/1-background_romina_falconi_rottincuore-slide_2.jpg
END:VEVENT
END:VCALENDAR